BEGIN:VCALENDAR
VERSION:2.0
PRODID:-//hacksw/handcal//NONSGML v1.0//EN
BEGIN:VEVENT
SUMMARY:Competition Regionale Messieurs
UID:acb01eb6-5ec1-451e-aade-dcc8b7385470
DTSTART:20260425T053000Z
DTEND:20260426T163000Z
LOCATION:Localisation   
CATEGORIES:Sportif
STATUS:
URL;VALUE=URI:https://www.assogolfclubbocagebressuirais.com/evenements/2026/04/25/competition-regionale-messieurs-2443500
END:VEVENT
END:VCALENDAR
