BEGIN:VCALENDAR
VERSION:2.0
PRODID:-//hacksw/handcal//NONSGML v1.0//EN
BEGIN:VEVENT
SUMMARY:SWC / GO-GOLF 2026 (Jour 5)
UID:b27368d9-7432-4eac-965c-391ce10a9949
DTSTART:20260519T063000Z
DTEND:20260519T130000Z
LOCATION:Localisation   
CATEGORIES:Sportif
STATUS:
DESCRIPTION:<p><span style="font-size:20px;"><strong>SWC-GO GOLF
 </strong></span></p>
 
 <p><span style="font-size:14px;">Competition de
 classement se deroulant sur 15 Journee avec la Finale le 11 Octobre
 2026</span></p>
 
 <p><span style="font-size:14px;">En « stableford
 »sur Grand Parcours .Depart selon votre choix de creneau horaire et
 de vos partenaires a realiser sur ISP. Si vous etes seul sur un
 creneau horaire, l'organisation se donne le droit de vous
 repositionner sur un autre horaire pourun depart a deux au minimum.
 Si vous rencontrez des difficultes pour vous incrire contacter
 l'Accueil. <em><strong>Attention, vous vous engagez a respecter votre
 horaire de depart.</strong></em></span></p>
 
 <p><span
 style="font-size:14px;">Inscription <a
 href="http://www.isp-golf.fr/choixcompet.php?action=C&numero=2268"
 target="_blank" rel="noreferrer noopener">sur ISP</a> <u>avant le
 Lundi 18 mai a 12h</u> (Delai de rigueur)</span></p>
 
 <p><span
 style="font-size:14px;">Minima pour rentrer dans le classement de 6
 participations sur 15.</span></p>
 
 <p> </p>
URL;VALUE=URI:https://www.assogolfclubbocagebressuirais.com/evenements/2026/05/19/swc-go-golf-2026-jour-5-2441475
END:VEVENT
END:VCALENDAR
