BEGIN:VCALENDAR
VERSION:2.0
PRODID:-//hacksw/handcal//NONSGML v1.0//EN
BEGIN:VEVENT
SUMMARY:SWC Competition Sponsorise VOLKSWAGEN
UID:0bd281f7-d1f5-4c66-8949-d740a94681da
DTSTART:20260529T120000Z
DTEND:20260529T140000Z
LOCATION:Localisation   
CATEGORIES:Sportif
STATUS:
DESCRIPTION:<h2><u><strong>Competiton SWC de classement Sposorisee
 par VOLSKWAGEN</strong></u></h2>
 
 <p>Depart selon Index a Partir de
 14h00 des Tee 1 & 10. Droit de jeu de 7 Euros pour
 tous.</p>
 
 <p>Remise de recompense a partir de 19:30 avec Buffet et
 Convivialite.</p>
URL;VALUE=URI:https://www.assogolfclubbocagebressuirais.com/evenements/2026/05/29/swc-competition-sponsorise-volkswagen-2441803
END:VEVENT
END:VCALENDAR
